BEGIN:VCALENDAR
PRODID:-//eluceo/ical//2.0/EN
VERSION:2.0
CALSCALE:GREGORIAN
BEGIN:VEVENT
UID:b1bd32daa80ea3656482a426222de206
DTSTAMP:20260422T102517Z
SUMMARY:produit-278636 - Date de vente : 14/05/2013
DESCRIPTION:Nom du lots : \n\nA green silk damask grand-piano cover\, Itali
 an\, early 20th century\, with ivory brocade appliques and strapwork to th
 e borders 195 by 152cm\; together with seven late 19th and 20th century cr
 imson silk runners and panels\, two green damask runners and an embroidere
 d ivory satin seat cover (11)\n
DTSTART;VALUE=DATE:20130514
END:VEVENT
END:VCALENDAR
