BEGIN:VCALENDAR
PRODID:-//eluceo/ical//2.0/EN
VERSION:2.0
CALSCALE:GREGORIAN
BEGIN:VEVENT
UID:b37dffbd12f32ac29204f4c1564a5b8a
DTSTAMP:20260422T102848Z
SUMMARY:produit-278635 - Date de vente : 14/05/2013
DESCRIPTION:Nom du lots : \n\nA yellow damask satin curtain\, pelmet and be
 dcover\, Italian\, circa 1900\, 280 by 300cm\, 73 by 160\, 310 by 255cm (3
 )\n
DTSTART;VALUE=DATE:20130514
END:VEVENT
END:VCALENDAR
