BEGIN:VCALENDAR
PRODID:-//eluceo/ical//2.0/EN
VERSION:2.0
CALSCALE:GREGORIAN
BEGIN:VEVENT
UID:809919f2915bba9d8c23085f31c258da
DTSTAMP:20260422T104549Z
SUMMARY:produit-278632 - Date de vente : 14/05/2013
DESCRIPTION:Nom du lots : \n\nA group of mainly pink and green textiles\, I
 talian\, early 20th century\, comprising pink and green velvet pelmet\, tw
 o curtains and  two lengths in 1760s style\, 108 by 65cm( 2) 75 by 240cm\,
  275 by 55cm\, 221 by 95cm\; together with an oval green silk tablecover w
 ith neoclassical floral appliques\, 180 by 150cm\; and a green damask sati
 n pelmet 80 by 380cm (7)\n
DTSTART;VALUE=DATE:20130514
END:VEVENT
END:VCALENDAR
