BEGIN:VCALENDAR
PRODID:-//eluceo/ical//2.0/EN
VERSION:2.0
CALSCALE:GREGORIAN
BEGIN:VEVENT
UID:3c451ae4655cf920e8de5e012750432c
DTSTAMP:20260422T103726Z
SUMMARY:produit-278624 - Date de vente : 14/05/2013
DESCRIPTION:Nom du lots : \n\nTHIS LOT IS WITHDRAWN\n
DTSTART;VALUE=DATE:20130514
END:VEVENT
END:VCALENDAR
