BEGIN:VCALENDAR
PRODID:-//eluceo/ical//2.0/EN
VERSION:2.0
CALSCALE:GREGORIAN
BEGIN:VEVENT
UID:1e55887bc81643f52d0f687ddbdf5c1a
DTSTAMP:20260422T104727Z
SUMMARY:produit-278600 - Date de vente : 14/05/2013
DESCRIPTION:Nom du lots : \n\nA rare pair of men’s Anello & Davide ’Bea
 tle’ boots\, 1962\, hand-made of black leather with elasticated sides\, 
 pointed blunt-tipped toes\, shaped heels\, size 8\n\n\n\nThe vendor of thi
 s lot went to see the Beatles perform live at the Smethwick Baths in the W
 est Midlands\, 19th November 1962. They had just released their first no 1
  hit ’Love Me Do’. The band were wearing identical boots to these. The
  vendor luckily met the group after the performance and asked where they h
 ad acquired them. Paul McCartney told him ’I think that they had them ma
 de at a theatrical shoe maker in Charing Cross\, London called Anello & Da
 vide’. The vendor made an order for an identical pair.\n
DTSTART;VALUE=DATE:20130514
END:VEVENT
END:VCALENDAR
