BEGIN:VCALENDAR
PRODID:-//eluceo/ical//2.0/EN
VERSION:2.0
CALSCALE:GREGORIAN
BEGIN:VEVENT
UID:7cffc7c73d40c1f3ede90008540d2273
DTSTAMP:20260422T104620Z
SUMMARY:produit-278598 - Date de vente : 14/05/2013
DESCRIPTION:Nom du lots : \n\nA rare and early Westwood/McLaren ’Let it R
 ock’ purple rayon taffeta circle skirt\, 1971-72\, with poorly printed c
 ream satin label\, waist 61cm\, 24in\n
DTSTART;VALUE=DATE:20130514
END:VEVENT
END:VCALENDAR
