BEGIN:VCALENDAR
PRODID:-//eluceo/ical//2.0/EN
VERSION:2.0
CALSCALE:GREGORIAN
BEGIN:VEVENT
UID:e69e9d6db110f27b4c9e976ab4684cbd
DTSTAMP:20260422T103508Z
SUMMARY:produit-278570 - Date de vente : 14/05/2013
DESCRIPTION:Nom du lots : \n\nA rare pair of stylish Giuseppe Marini co-res
 pondent shoes\, Italian\, 1920s\, stamped to the interior ’G.Marini\, Mi
 lano’\, of black patent and white suede leather with elasticated uppers 
 to each side of patent faux laced panel\,i  28cm long\, approx size 8\, (2
 )\n\n\n\nGiuseppe Marini founded his bespoke shoe-making business in Rome 
 in 1899. See http://www.calzaturemarini.it/about-us.php\n
DTSTART;VALUE=DATE:20130514
END:VEVENT
END:VCALENDAR
