BEGIN:VCALENDAR
PRODID:-//eluceo/ical//2.0/EN
VERSION:2.0
CALSCALE:GREGORIAN
BEGIN:VEVENT
UID:9e77fd6d61752ab49e2e7ea71c1a9163
DTSTAMP:20260422T103600Z
SUMMARY:produit-278534 - Date de vente : 14/05/2013
DESCRIPTION:Nom du lots : \n\nA Biba tapestry weave jersey jacket with blac
 k faux fur trim\, circa 1973-5\, with printed art-nouveau label\, chevron 
 striped in shades of grey\, angular lapels self-tie belt\, chest approx 92
 cm\, 36in\n
DTSTART;VALUE=DATE:20130514
END:VEVENT
END:VCALENDAR
