BEGIN:VCALENDAR
PRODID:-//eluceo/ical//2.0/EN
VERSION:2.0
CALSCALE:GREGORIAN
BEGIN:VEVENT
UID:17059310f68666c2cd4360398792593f
DTSTAMP:20260422T103619Z
SUMMARY:produit-278482 - Date de vente : 14/05/2013
DESCRIPTION:Nom du lots : \n\nA group of beaded reticules and purses\, incl
 uding dark green floral example with drawstring fastening\; ivory example 
 with floral borders\, both 19th century\;  a primrose floral example 1920s
 \; and 1930s beaded purse with gilt snake mounts\, the largest 22cm\, 8 1/
 2in long (4)\n
DTSTART;VALUE=DATE:20130514
END:VEVENT
END:VCALENDAR
