BEGIN:VCALENDAR
PRODID:-//eluceo/ical//2.0/EN
VERSION:2.0
CALSCALE:GREGORIAN
BEGIN:VEVENT
UID:18564aad46023819d046b35acbe82acf
DTSTAMP:20260422T104733Z
SUMMARY:produit-278454 - Date de vente : 14/05/2013
DESCRIPTION:Nom du lots : \n\nA Bernat Klein printed jersey dress\, early 1
 970s\, labelled\, with high neckline\, bust 86cm\, 40in\; together with a 
 Bernat Klein psychedelic print blouse\, bust 102cm\, 40in (2)\n
DTSTART;VALUE=DATE:20130514
END:VEVENT
END:VCALENDAR
