BEGIN:VCALENDAR
PRODID:-//eluceo/ical//2.0/EN
VERSION:2.0
CALSCALE:GREGORIAN
BEGIN:VEVENT
UID:b8b52530ff0e8a9175c13200a0f0ccf5
DTSTAMP:20260422T102753Z
SUMMARY:produit-278453 - Date de vente : 14/05/2013
DESCRIPTION:Nom du lots : \n\nTwo Bernat Klein printed jersey kaftans\, ear
 ly 1970s\, labelled\, one in orange tones with tie belt\, the other printe
 d in shades of green and brown with self-covered buttons to neck (2)\n
DTSTART;VALUE=DATE:20130514
END:VEVENT
END:VCALENDAR
