BEGIN:VCALENDAR
PRODID:-//eluceo/ical//2.0/EN
VERSION:2.0
CALSCALE:GREGORIAN
BEGIN:VEVENT
UID:0a0f2b0d7fcf99f05b269008c82238af
DTSTAMP:20260422T102548Z
SUMMARY:produit-278448 - Date de vente : 14/05/2013
DESCRIPTION:Nom du lots : \n\nA Grustein reversible grey fox fur jacket\, 1
 980s\, the exterior formed from curving patterned bands\, the interior wit
 h sinuous bands of grey-silver leather\, chest approx 107cm\, 47in\n
DTSTART;VALUE=DATE:20130514
END:VEVENT
END:VCALENDAR
