BEGIN:VCALENDAR
PRODID:-//eluceo/ical//2.0/EN
VERSION:2.0
CALSCALE:GREGORIAN
BEGIN:VEVENT
UID:74ca4436ac1db63fc88adb8349cc88bd
DTSTAMP:20260423T052307Z
SUMMARY:produit-277525 - Date de vente : 03/12/2013
DESCRIPTION:Nom du lots : \n\nTHIS LOT IS WITHDRAWN\n
DTSTART;VALUE=DATE:20131203
END:VEVENT
END:VCALENDAR
