BEGIN:VCALENDAR
PRODID:-//eluceo/ical//2.0/EN
VERSION:2.0
CALSCALE:GREGORIAN
BEGIN:VEVENT
UID:5300034c7658164c05af3c3ff2fd1870
DTSTAMP:20260423T052201Z
SUMMARY:produit-277520 - Date de vente : 03/12/2013
DESCRIPTION:Nom du lots : \n\nA fine Gianni Versace silver-mesh cocktail dr
 ess\, Autumn-Winter\, 1994-95\, with diamond Atelier label\, with rhinesto
 ne studded silvered Medusa-head clips and Y-shaped silver top-stitched str
 aps\, with draped cowl to front of bodice\, integral silver lycra body\, i
  bust 86cm\, 34in\, waist 66cm\, 26in\n\n\n\nVersace used metal mesh in hi
 s designs from the 1980s onwards. These progressed from boxy rectangular s
 hapes in the early collections to neo-classical drapery by the 1990s\, sug
 gestive of female gladiators. This fine metal mesh produced a molten\, alm
 ost wet-look effect\, which in combination with silver or gold tones produ
 ced the glamorous ’bling’ effect for which he was renowned.\n
DTSTART;VALUE=DATE:20131203
END:VEVENT
END:VCALENDAR
