BEGIN:VCALENDAR
PRODID:-//eluceo/ical//2.0/EN
VERSION:2.0
CALSCALE:GREGORIAN
BEGIN:VEVENT
UID:89920744476dfb5911829662f20ab593
DTSTAMP:20260423T052307Z
SUMMARY:produit-277518 - Date de vente : 03/12/2013
DESCRIPTION:Nom du lots : \n\nA fine Gianni Versace golden-mesh ’Oscar’
  dress\, Autumn-Winter\, 1994-95\, with diamond Atelier label\, the bra-bo
 dice with top-stitched straps\, the skirt attached in points to front and 
 back\, with kick-split to rear hem\, integral gold lycra body\, bust appro
 x 92cm\, 36in\n\n\n\nClaudia Schiffer was photographed for US Vogue wearin
 g an identical dress in a group photograph which included all the major su
 per models of the period all dressed in opulent\, draped golden mesh gowns
  of varying designs.\n
DTSTART;VALUE=DATE:20131203
END:VEVENT
END:VCALENDAR
