BEGIN:VCALENDAR
PRODID:-//eluceo/ical//2.0/EN
VERSION:2.0
CALSCALE:GREGORIAN
BEGIN:VEVENT
UID:4477fe0594b85fd70206e07122da41f5
DTSTAMP:20260423T052308Z
SUMMARY:produit-277510 - Date de vente : 03/12/2013
DESCRIPTION:Nom du lots : \n\nAn Azzedine Alablack knitted silk body-con ev
 ening gown\, early 1990s\, labelled and size M\, with single button to col
 lar\, sculpted and gored panels which follow the contours of the body\, bu
 st approx 86cm\, 34in\n
DTSTART;VALUE=DATE:20131203
END:VEVENT
END:VCALENDAR
