BEGIN:VCALENDAR
PRODID:-//eluceo/ical//2.0/EN
VERSION:2.0
CALSCALE:GREGORIAN
BEGIN:VEVENT
UID:73669f5e121811313d66ba1fd0d9d294
DTSTAMP:20260423T052159Z
SUMMARY:produit-277506 - Date de vente : 03/12/2013
DESCRIPTION:Nom du lots : \n\nA striking Thierry Mugler white fur coat\, ea
 rly 1990s\, blue couture label\, the white fur with criss-cross lattice of
  black fur\, pointed rear tails\, chest 92cm\, 36in\n
DTSTART;VALUE=DATE:20131203
END:VEVENT
END:VCALENDAR
