BEGIN:VCALENDAR
PRODID:-//eluceo/ical//2.0/EN
VERSION:2.0
CALSCALE:GREGORIAN
BEGIN:VEVENT
UID:6ae11018d62dc44e962dbce68101051a
DTSTAMP:20260423T052143Z
SUMMARY:produit-277488 - Date de vente : 03/12/2013
DESCRIPTION:Nom du lots : \n\nA Zandra Rhodes black ultra-suede and wool co
 cktail dress\, circa 1980\, labelled\, boldly printed in gold\, the cuffs 
 trimmed with gilt bells\, with matching belt\, bust approx 86-92cm\; toget
 her with a gold embroidered black Palestinian jacket c.1950 (3)\n
DTSTART;VALUE=DATE:20131203
END:VEVENT
END:VCALENDAR
