BEGIN:VCALENDAR
PRODID:-//eluceo/ical//2.0/EN
VERSION:2.0
CALSCALE:GREGORIAN
BEGIN:VEVENT
UID:b94dadd7a6da50dcef565d9c0557db9c
DTSTAMP:20260423T052203Z
SUMMARY:produit-277487 - Date de vente : 03/12/2013
DESCRIPTION:Nom du lots : \n\nA Zandra Rhodes printed pink chiffon cocktail
  dress/tunic\, mid 1980s\, labelled\, edged with pearl beads and fringes\,
  approx bust 86-92cm\, 34-36in\, elasticated waist\n
DTSTART;VALUE=DATE:20131203
END:VEVENT
END:VCALENDAR
