BEGIN:VCALENDAR
PRODID:-//eluceo/ical//2.0/EN
VERSION:2.0
CALSCALE:GREGORIAN
BEGIN:VEVENT
UID:7b33659db539525c6e1cbb73b1e0bf8c
DTSTAMP:20260423T052201Z
SUMMARY:produit-277485 - Date de vente : 03/12/2013
DESCRIPTION:Nom du lots : \n\nA Zandra Rhodes Ayers Rock collection evening
  gown\, 1978\, labelled\, the chiffon printed with Lace Mountain pattern i
 n shades of peach\, grey and lilac\, with matching pink satin sash and a h
 eadband adorned with floret and shell shaped sequins\, i bust approx 86-92
 cm 34-36in (3)\n\n\n\nAlthough the Ayers Rock collection was first present
 ed in 1974\, this dress was worn as a bridal gown in 1978.\n
DTSTART;VALUE=DATE:20131203
END:VEVENT
END:VCALENDAR
