BEGIN:VCALENDAR
PRODID:-//eluceo/ical//2.0/EN
VERSION:2.0
CALSCALE:GREGORIAN
BEGIN:VEVENT
UID:aa8a12d0b2a578f4a99455b1429c9184
DTSTAMP:20260423T052202Z
SUMMARY:produit-277453 - Date de vente : 03/12/2013
DESCRIPTION:Nom du lots : \n\nAn Yves Saint Laurent for Christian Dior cout
 ure black faille cocktail dress\, probably Spring-Summer\, 1958\, un-label
 led\, with princess-line bodice and skirt\, the skirt sweeping round to th
 e back waist which frame vertically draped flounces centre-back\, creating
  a bustle-like effect\, with cross-over closure panel to back bodice\, int
 egral tulle corset with suspenders\, layered tulle petticoats\, bust appro
 x 86cm\, 34in\, waist 66cm\, 26in\n
DTSTART;VALUE=DATE:20131203
END:VEVENT
END:VCALENDAR
