BEGIN:VCALENDAR
PRODID:-//eluceo/ical//2.0/EN
VERSION:2.0
CALSCALE:GREGORIAN
BEGIN:VEVENT
UID:811d3aef9c5d622298c52758864d7532
DTSTAMP:20260423T052152Z
SUMMARY:produit-277452 - Date de vente : 03/12/2013
DESCRIPTION:Nom du lots : \n\nA black Colubus monkey fur cape\, circa 1940\
 , labelled ’Simpsons\, Toronto\, Montreal’\, lined in black silk\n\n\n
 \nPlease note there are export restrictions on this lot outside the EU.\n
DTSTART;VALUE=DATE:20131203
END:VEVENT
END:VCALENDAR
