BEGIN:VCALENDAR
PRODID:-//eluceo/ical//2.0/EN
VERSION:2.0
CALSCALE:GREGORIAN
BEGIN:VEVENT
UID:1902000b2412ca0091303ee7e42af2e1
DTSTAMP:20260423T052306Z
SUMMARY:produit-277431 - Date de vente : 03/12/2013
DESCRIPTION:Nom du lots : \n\nTHIS LOT IS WITHDRAWN\n
DTSTART;VALUE=DATE:20131203
END:VEVENT
END:VCALENDAR
