BEGIN:VCALENDAR
PRODID:-//eluceo/ical//2.0/EN
VERSION:2.0
CALSCALE:GREGORIAN
BEGIN:VEVENT
UID:141cf5016c05c08ac4ffcaa6b4b77005
DTSTAMP:20260423T052202Z
SUMMARY:produit-277402 - Date de vente : 03/12/2013
DESCRIPTION:Nom du lots : \n\nA rare pair of wig bellows bearing the cypher
  of King George III\, circa 1775\, of mahogany with leather sides and ivor
 y tip\, painted in gold with a kingly crown and GR III\, 16cm\, 6 1/4in lo
 ng\n\n\n\nProvenance: from a descendant of the House of Bourbon.\n\n\n\nPl
 ease note there are export restrictions on this lot outside the EU.\n
DTSTART;VALUE=DATE:20131203
END:VEVENT
END:VCALENDAR
