BEGIN:VCALENDAR
PRODID:-//eluceo/ical//2.0/EN
VERSION:2.0
CALSCALE:GREGORIAN
BEGIN:VEVENT
UID:38d192763c3cec83c36bb71a49622cbc
DTSTAMP:20260423T070828Z
SUMMARY:produit-277394 - Date de vente : 03/12/2013
DESCRIPTION:Nom du lots : \n\nA René Bouet Willaumez fashion illustration 
 of a Schiaparelli petticoat\, 1951\, pencil\, pink watercolour washes on w
 hite artist’s board\, depicting a ruffled petticoat\, 42 by 28cm\; toget
 her with a girl with a dove in acid green and black gouache\, 34 1/2 by 29
 cm (2)\n\n\n\nProvenance: Sale of the artist’s studio\, Passion for Fash
 ion\, Sotheby’s 25th November\, 1998 lot 311. The petticoat image was pu
 blished in American Vogue\, November 1st\, 1951 p.133.\n
DTSTART;VALUE=DATE:20131203
END:VEVENT
END:VCALENDAR
