BEGIN:VCALENDAR
PRODID:-//eluceo/ical//2.0/EN
VERSION:2.0
CALSCALE:GREGORIAN
BEGIN:VEVENT
UID:370f5088144ec937a322fc116f7999d7
DTSTAMP:20260423T070829Z
SUMMARY:produit-277390 - Date de vente : 03/12/2013
DESCRIPTION:Nom du lots : \n\nElliot Hodgkin fashion sketches\, circa 1928-
 9\, each signed in the margin\, gouache on artist’s board\, day and even
 ing wear ensembles\, each approx 35 by 25cm (16)\n
DTSTART;VALUE=DATE:20131203
END:VEVENT
END:VCALENDAR
