BEGIN:VCALENDAR
PRODID:-//eluceo/ical//2.0/EN
VERSION:2.0
CALSCALE:GREGORIAN
BEGIN:VEVENT
UID:cb32d3ee200954691f8904be2f6da3ba
DTSTAMP:20260423T070817Z
SUMMARY:produit-277384 - Date de vente : 03/12/2013
DESCRIPTION:Nom du lots : \n\nA Scemama for Yves Saint Laurent couture coll
 ection jewelled belt\, 1972\, signed YSL\, the chain links studded with bl
 ister ’pearls’ and green stones\, with large circular medallion inset 
 with red\, green and topaz ’gems’\, 71cm\, 28in \n\n\n\nThis belt worn
  as a choker is photographed in L’Officiel\, no 594 p.331.\n
DTSTART;VALUE=DATE:20131203
END:VEVENT
END:VCALENDAR
