BEGIN:VCALENDAR
PRODID:-//eluceo/ical//2.0/EN
VERSION:2.0
CALSCALE:GREGORIAN
BEGIN:VEVENT
UID:101b620a72294efb50481df5ab35eae7
DTSTAMP:20260423T070817Z
SUMMARY:produit-277383 - Date de vente : 03/12/2013
DESCRIPTION:Nom du lots : \n\nAn Yves Saint Laurent heart-pendant necklace/
 brooch\, Autumn-Winter\, 1996-7\, signed to the reverse\, of smoke-grey ti
 nted and red brilliant cut stones\, baroque pearl beads\, with cabochon dr
 oplet\, brooch pin to the reverse\, the white metal chain inset with red s
 tones\,i  the chain 44cm long\n
DTSTART;VALUE=DATE:20131203
END:VEVENT
END:VCALENDAR
