BEGIN:VCALENDAR
PRODID:-//eluceo/ical//2.0/EN
VERSION:2.0
CALSCALE:GREGORIAN
BEGIN:VEVENT
UID:f3414cc74373cbbb08cc4405bfaf3672
DTSTAMP:20260423T071818Z
SUMMARY:produit-277372 - Date de vente : 03/12/2013
DESCRIPTION:Nom du lots : \n\nAn Hermès gris tourterelle clemence leather 
 haut courroies overnight bag\, 2000\, blind stamp D\, with silver palladiu
 m hardware\, key fob and padlock\, 50cm\, 19 1/2in\n
DTSTART;VALUE=DATE:20131203
END:VEVENT
END:VCALENDAR
