BEGIN:VCALENDAR
PRODID:-//eluceo/ical//2.0/EN
VERSION:2.0
CALSCALE:GREGORIAN
BEGIN:VEVENT
UID:ce871233f645efd8d6d74ae3cee46caf
DTSTAMP:20260423T160201Z
SUMMARY:produit-277348 - Date de vente : 25/02/2014
DESCRIPTION:Nom du lots : \n\nA Louis Vuitton trunk\, circa 1885\, the exte
 rior of brown canvas with metal and wooden struts and rivets\, faintly ini
 tialled in black to the lid\, the interior lined with striped paper and wi
 th large printed LV trunk label numbered 22298\, and bearing 289 Oxford St
 \, Regent Circus\, and Rue Scribe Paris addresses\, on small wheels\, carr
 ying handles to the sides\, 58 by 80 by 51cm\; 23 by 37 1/2 by 20in\n\n\n\
 nThe large trunk trade label was only used between 1885 and 1890.\n
DTSTART;VALUE=DATE:20140225
END:VEVENT
END:VCALENDAR
