BEGIN:VCALENDAR
PRODID:-//eluceo/ical//2.0/EN
VERSION:2.0
CALSCALE:GREGORIAN
BEGIN:VEVENT
UID:d3c8211d6facc54944b6eed4fcea02c5
DTSTAMP:20260423T162321Z
SUMMARY:produit-277340 - Date de vente : 25/02/2014
DESCRIPTION:Nom du lots : \n\nA Thierry Mugler blue worsted suit\, circa 19
 87\, labelled and size 40\, with curved seaming\, with top-stitched detail
 ing and buckle to waist\, brass prestud fasteners\, chest 102cm\, 40in\, w
 aist\, waist 71cm\, 28in (2)\n
DTSTART;VALUE=DATE:20140225
END:VEVENT
END:VCALENDAR
