BEGIN:VCALENDAR
PRODID:-//eluceo/ical//2.0/EN
VERSION:2.0
CALSCALE:GREGORIAN
BEGIN:VEVENT
UID:bfe4bcad5ff9e299b2c81bd64c17c8df
DTSTAMP:20260423T160211Z
SUMMARY:produit-277329 - Date de vente : 25/02/2014
DESCRIPTION:Nom du lots : \n\nA Paco Rabanne gilt chain-mail and wine snake
 skin shoulder bag\, late 1960s\, lycodonomorphus rufulus\, with metal make
 r’s label to the interior\, 29cm\, 11in wide\n
DTSTART;VALUE=DATE:20140225
END:VEVENT
END:VCALENDAR
