BEGIN:VCALENDAR
PRODID:-//eluceo/ical//2.0/EN
VERSION:2.0
CALSCALE:GREGORIAN
BEGIN:VEVENT
UID:b96ef84464b597249f158b76da6f839f
DTSTAMP:20260423T160038Z
SUMMARY:produit-277321 - Date de vente : 25/02/2014
DESCRIPTION:Nom du lots : \n\nA Thierry Mugler red satin cocktail dress\, 1
 990s\, blue label and size 40\, with boned integral corset\, black velvet 
 bands criss cross the bodice\, bust 86cm\, 34in\n
DTSTART;VALUE=DATE:20140225
END:VEVENT
END:VCALENDAR
