BEGIN:VCALENDAR
PRODID:-//eluceo/ical//2.0/EN
VERSION:2.0
CALSCALE:GREGORIAN
BEGIN:VEVENT
UID:f713dab37cc0fa9317118ab38ab7e7a6
DTSTAMP:20260423T160832Z
SUMMARY:produit-277301 - Date de vente : 25/02/2014
DESCRIPTION:Nom du lots : \n\nA Christian Dior London brown wool dinner dre
 ss\, early 1960s\, labelled and numbered 10094 and size 14\, with diagonal
  bodice fastening\, the waist trimmed with two bows\, bust 97cm\, 38in\n
DTSTART;VALUE=DATE:20140225
END:VEVENT
END:VCALENDAR
