BEGIN:VCALENDAR
PRODID:-//eluceo/ical//2.0/EN
VERSION:2.0
CALSCALE:GREGORIAN
BEGIN:VEVENT
UID:28a437d18148e55ff6dd5d0b09fb6f3a
DTSTAMP:20260423T160253Z
SUMMARY:produit-277299 - Date de vente : 25/02/2014
DESCRIPTION:Nom du lots : \n\nA Maggy Rouff couture old-rose shantung silk 
 ensemble\, late 1950s\, with London-Paris label\, the short sleeved dress 
 with top-stitched edging\, two bows to the bodice above finely pleated ski
 rt\; the matching jacket with contrasting polka-dot lining\, large bow tie
 s to the pockets\, bust 102-107cm\, 40-42in\, waist 71cm\, 32in (2)\n
DTSTART;VALUE=DATE:20140225
END:VEVENT
END:VCALENDAR
