BEGIN:VCALENDAR
PRODID:-//eluceo/ical//2.0/EN
VERSION:2.0
CALSCALE:GREGORIAN
BEGIN:VEVENT
UID:f8c6b9efb6e537a97f339d6412fddaab
DTSTAMP:20260423T160049Z
SUMMARY:produit-277294 - Date de vente : 25/02/2014
DESCRIPTION:Nom du lots : \n\nA panel of printed cotton Beatles fabric\, mi
 d 1960s\, 92 by 196cm\; together with another bolt of 1960s fabric printed
  with children\; and two skirts - one with satirical Charles de Gaulle pri
 nt\, the other with bouquets of flowers (4)\n\n\n\nA dress made from a sim
 ilar Beatles fabric was sold by KTA 14th May\, 2013\, lot 156 for £350.\n
DTSTART;VALUE=DATE:20140225
END:VEVENT
END:VCALENDAR
