BEGIN:VCALENDAR
PRODID:-//eluceo/ical//2.0/EN
VERSION:2.0
CALSCALE:GREGORIAN
BEGIN:VEVENT
UID:9f9ad0bce4bf13e227365df242558090
DTSTAMP:20260423T160339Z
SUMMARY:produit-277293 - Date de vente : 25/02/2014
DESCRIPTION:Nom du lots : \n\nA Peter Robinson of Regent St\, brocaded and 
 beaded cocoon shaped opera coat\, early 1920s\, with remains of woven labe
 l to the blue silk lining\, of Persian style brocade with gold and clear g
 lass beaded collar\, fastener and hem\, beaded fringe to collar edge\n
DTSTART;VALUE=DATE:20140225
END:VEVENT
END:VCALENDAR
