BEGIN:VCALENDAR
PRODID:-//eluceo/ical//2.0/EN
VERSION:2.0
CALSCALE:GREGORIAN
BEGIN:VEVENT
UID:9f731292b88445fb93146f215674635b
DTSTAMP:20260423T160049Z
SUMMARY:produit-277267 - Date de vente : 25/02/2014
DESCRIPTION:Nom du lots : \n\nTwo silk crepe bias cut evening gowns\, 1930s
 \, one brick red with gilt metal curleques to the bodice\, the other primr
 ose yellow with shirred details to the skirt sides and metal belt cast wit
 h fruits and inset with rhinestones\, busts 86-92cm\, 34-36in (2)\n\n\n\nP
 rovenance: Henning Thorsen collectioni\n
DTSTART;VALUE=DATE:20140225
END:VEVENT
END:VCALENDAR
