BEGIN:VCALENDAR
PRODID:-//eluceo/ical//2.0/EN
VERSION:2.0
CALSCALE:GREGORIAN
BEGIN:VEVENT
UID:f927864ad5228ade975f9d27f8fc6bc2
DTSTAMP:20260423T162147Z
SUMMARY:produit-277207 - Date de vente : 25/02/2014
DESCRIPTION:Nom du lots : \n\nA pair of Philippe Chevalier sunglasses\, lat
 e 60s-early 70s\, with faux tortoiseshell frames\, sloping oval lenses and
  arms with curved comma tips\, 15cm wide\n
DTSTART;VALUE=DATE:20140225
END:VEVENT
END:VCALENDAR
