BEGIN:VCALENDAR
PRODID:-//eluceo/ical//2.0/EN
VERSION:2.0
CALSCALE:GREGORIAN
BEGIN:VEVENT
UID:750087487f1589be92ab7fd9d07f3b55
DTSTAMP:20260423T162240Z
SUMMARY:produit-277206 - Date de vente : 25/02/2014
DESCRIPTION:Nom du lots : \n\nA pair of Philippe Chevalier sunglasses\, pro
 bably late 60s-early 70s\, with blue-tinted heart shaped lenses\; together
  with a Roberta di Camerino printed velvet case (2)\n
DTSTART;VALUE=DATE:20140225
END:VEVENT
END:VCALENDAR
