BEGIN:VCALENDAR
PRODID:-//eluceo/ical//2.0/EN
VERSION:2.0
CALSCALE:GREGORIAN
BEGIN:VEVENT
UID:0b1f3221a12952e0340d502d65722d8f
DTSTAMP:20260423T162240Z
SUMMARY:produit-277192 - Date de vente : 25/02/2014
DESCRIPTION:Nom du lots : \n\nA good Azzedine Alaia double-breasted black w
 ool jacket\, Autumn-Winter\, 1986-7\, labelled and size\, the cut redolent
  of early 19th century men’s wear\, the full sleeves tapering to narrow 
 notched cuffs\, chest appox 86-92cm\, 34-36in\n\n\n\nLiterature: a similar
  jacket is illustrated in ’Azzedine Alaia in the 21st Century’ Groning
 er Museum exhibition catalogue p.20.\n
DTSTART;VALUE=DATE:20140225
END:VEVENT
END:VCALENDAR
