BEGIN:VCALENDAR
PRODID:-//eluceo/ical//2.0/EN
VERSION:2.0
CALSCALE:GREGORIAN
BEGIN:VEVENT
UID:9903e81636b240f1b015e93b56f29651
DTSTAMP:20260423T162804Z
SUMMARY:produit-277089 - Date de vente : 25/02/2014
DESCRIPTION:Nom du lots : \n\nA Courreges navy wool coat\, circa 1970\, lab
 elled Couture Future\, numbered 0023108a\, double-breasted with contrastin
 g decorative white-edged buttons\, chest 92cm\, 36in\n
DTSTART;VALUE=DATE:20140225
END:VEVENT
END:VCALENDAR
