BEGIN:VCALENDAR
PRODID:-//eluceo/ical//2.0/EN
VERSION:2.0
CALSCALE:GREGORIAN
BEGIN:VEVENT
UID:18b0eea25674f3321ca829028d98d47e
DTSTAMP:20260423T162805Z
SUMMARY:produit-277079 - Date de vente : 25/02/2014
DESCRIPTION:Nom du lots : \n\nA Jean Paul Gaultier ’corset’ bodice\, ci
 rca 1987\, labelled ’Femme’ and  Italian size 42\, of navy-blue pin-st
 riped suiting\, button fastened and with padded black satin under-wired br
 easts\, lined in striped satin\, bust approx 86-92cm\, 34-36in\n
DTSTART;VALUE=DATE:20140225
END:VEVENT
END:VCALENDAR
