BEGIN:VCALENDAR
PRODID:-//eluceo/ical//2.0/EN
VERSION:2.0
CALSCALE:GREGORIAN
BEGIN:VEVENT
UID:18b9a5b974fa3901136d0a7ac9412949
DTSTAMP:20260423T164000Z
SUMMARY:produit-277072 - Date de vente : 25/02/2014
DESCRIPTION:Nom du lots : \n\nFour boxes of sample flowers\, comprising app
 rox 135 flowers\, including roses\, sweet peas\, pansies of various colour
 s (4)\n
DTSTART;VALUE=DATE:20140225
END:VEVENT
END:VCALENDAR
