BEGIN:VCALENDAR
PRODID:-//eluceo/ical//2.0/EN
VERSION:2.0
CALSCALE:GREGORIAN
BEGIN:VEVENT
UID:8a3bb84d7d6cfdf1f33d0bda3512abba
DTSTAMP:20260423T164116Z
SUMMARY:produit-277071 - Date de vente : 25/02/2014
DESCRIPTION:Nom du lots : \n\nFive boxes of sample flowers\, comprising app
 rox 200 flowers\, including roses\, lilies\, daisies\, daffodils of variou
 s colours (5)\n
DTSTART;VALUE=DATE:20140225
END:VEVENT
END:VCALENDAR
