BEGIN:VCALENDAR
PRODID:-//eluceo/ical//2.0/EN
VERSION:2.0
CALSCALE:GREGORIAN
BEGIN:VEVENT
UID:12a3eebf71a71437f311db46ffc708ea
DTSTAMP:20260423T164152Z
SUMMARY:produit-277051 - Date de vente : 25/02/2014
DESCRIPTION:Nom du lots : \n\nFive boxes of silk flowers sprays and posies\
 , comprising: one of large and small white flowers (15)\; one of white\, p
 ink and violet sprays (60)\; one of lilac flowers (110)\; one of blue and 
 pink apple blossom (45)\; and another of small yellow flowers in bunches (
 35)\n
DTSTART;VALUE=DATE:20140225
END:VEVENT
END:VCALENDAR
