BEGIN:VCALENDAR
PRODID:-//eluceo/ical//2.0/EN
VERSION:2.0
CALSCALE:GREGORIAN
BEGIN:VEVENT
UID:d15337a292948199efa3a57291e5a075
DTSTAMP:20260423T162257Z
SUMMARY:produit-277019 - Date de vente : 25/02/2014
DESCRIPTION:Nom du lots : \n\nA pair of Courrèges white plastic sunglasses
 \, 1964\, signed along the arms\, the solid lenses with horizontal slits\,
  i 15cm\, 6in long\n
DTSTART;VALUE=DATE:20140225
END:VEVENT
END:VCALENDAR
