BEGIN:VCALENDAR
PRODID:-//eluceo/ical//2.0/EN
VERSION:2.0
CALSCALE:GREGORIAN
BEGIN:VEVENT
UID:1a9b08bbad7053bf9a32b12b8a2caa75
DTSTAMP:20260423T162321Z
SUMMARY:produit-277005 - Date de vente : 25/02/2014
DESCRIPTION:Nom du lots : \n\nA commemorative ’suffragette’ dress\, Ame
 rican\, circa 1970\, in loose Edwardian style with V-shaped waist and flou
 nced hem\, the cotton print incorporating Suffragette slogans from 1900-19
 20\, bust 92cm\, 36in.\n\n\n\nIn 1920 with the passage of the Nineteenth A
 mendment - women were for the first time given the right to vote across th
 e whole of the United States. This dress is a feminist commemoration of th
 at moment - probably made to celebrate the 50th anniversary of the legisla
 tion.\n
DTSTART;VALUE=DATE:20140225
END:VEVENT
END:VCALENDAR
