BEGIN:VCALENDAR
PRODID:-//eluceo/ical//2.0/EN
VERSION:2.0
CALSCALE:GREGORIAN
BEGIN:VEVENT
UID:c4b7d8ea0d94c302f389133de1bda6a5
DTSTAMP:20260423T162404Z
SUMMARY:produit-276993 - Date de vente : 25/02/2014
DESCRIPTION:Nom du lots : \n\nThree paper dresses in psychedelic swirls and
  spots\, 1960s\, including a baby-doll style by Reemay in original packagi
 ng and two pairs of patterned stockings\, one with Twiggy label (5)\n
DTSTART;VALUE=DATE:20140225
END:VEVENT
END:VCALENDAR
