BEGIN:VCALENDAR
PRODID:-//eluceo/ical//2.0/EN
VERSION:2.0
CALSCALE:GREGORIAN
BEGIN:VEVENT
UID:ee6acb8673f277abba5f41e4e6dc7fa0
DTSTAMP:20260423T164015Z
SUMMARY:produit-276988 - Date de vente : 25/02/2014
DESCRIPTION:Nom du lots : \n\nTHIS LOT IS WITHDRAWN\n
DTSTART;VALUE=DATE:20140225
END:VEVENT
END:VCALENDAR
